BEGIN:VCALENDAR
VERSION:2.0
PRODID:-//Bangalore Astronomy Club - ECPv6.15.20//NONSGML v1.0//EN
CALSCALE:GREGORIAN
METHOD:PUBLISH
X-WR-CALNAME:Bangalore Astronomy Club
X-ORIGINAL-URL:https://bangaloreastronomyclub.com
X-WR-CALDESC:Events for Bangalore Astronomy Club
REFRESH-INTERVAL;VALUE=DURATION:PT1H
X-Robots-Tag:noindex
X-PUBLISHED-TTL:PT1H
BEGIN:VTIMEZONE
TZID:Asia/Kolkata
BEGIN:STANDARD
TZOFFSETFROM:+0530
TZOFFSETTO:+0530
TZNAME:IST
DTSTART:20250101T000000
END:STANDARD
END:VTIMEZONE
BEGIN:VEVENT
DTSTART;TZID=Asia/Kolkata:20260421T160000
DTEND;TZID=Asia/Kolkata:20260422T070000
DTSTAMP:20260420T150920
CREATED:20260407T105820Z
LAST-MODIFIED:20260407T105820Z
UID:12583-1776787200-1776841200@bangaloreastronomyclub.com
SUMMARY:✨🌠 Shower of Stars – Lyrids Night with BAC 🌠✨
DESCRIPTION:*EVENT SUBJECTED TO WEATHER* \nPLEASE READ OUR CANCELLATIONS AND REFUND POLICIES CAREFULLY BEFORE YOU BOOK. \nCancellation Policies – Bangalore Astronomy Club \n*BANGALORE ASTRONOMY CLUB PRESENTS*\n__Shower of Stars – Lyrids Night with BAC\, Guided Meteor Shower Watch\n__Stargazing Camping Event\n__Experience Big telescope/unmatched views under professional guidance\n__Evening HI-Tea\, Dinner & Breakfast with stay in Tents or Rooms \n*Date:*\n__Apr. 21-22\, 2026 (Tuesday Night) \n*Timings:*\n__Reach Farm at: 04:00 PM on Day-1\n__Leave Farm at: 07:00 AM on Day-2 \n*Location:*\nChiguru Farm:\nhttps://maps.app.goo.gl/Pt4YdP23jHGeunMM9 \n*5 Stay Options* \n*Itinerary:* \n*Day-1:*\n_Reach Chiguru Farm around 04:00 pm. on your own vehicles.\n_Check-in to tents/rooms as per your bookings\n_Group Photo with Telescopes and Tents in Background\n_Snacks with Tea-Coffee\n_Visit Sunset point\n_Astronomy QUIZ for kids and adults\n_Presentations session on Understand Astronomy Basics\, Telescopes\, Space & cameras etc.\n_Evening stargazing session\n_Dinner\n_Understanding of Night Sky\, stars and constellations\n_Learn to identify objects in Night Sky\n_Stargazing with HIGH END AUTOMATIC BIG TELESCOPE & Visual astronomy with Moon\, Planets\, Nebulas\, Galaxies\, Star Clusters etc.\n_Continue watching Meteor Shower or Sleep. \n*Day-2:*\n_Wake-up early morning for Meteor Shower experience and early Morning Stargazing session.\n_Visit Sunrise Point\n_Morning Tea-Coffee\n_Departure\, on way back enjoying scenic drive of Bilikal forest. \nPre-Booking with full payment is mandatory for the event. \n*Contact Details:*\nVijay Kapoor\nCall/Whatsapp: +91.95.99.110.220\nemail: info@bangaloreastronomyclub.com\nURL: https://bangaloreastronomyclub.com/upcoming-events\nInsta: https://www.instagram.com/bangaloreastronomyclub/ \nFor Refund and Cancellation Policy details please visit below link:\nCancellation Policies – Bangalore Astronomy Club \n  \n\nYOU CAN AVOID PAYMENT GATEWAY FEE DEDUCTIONS ON REFUNDS FOR CANCELLATIONS OF EVENT (EIGHER YOUR SIDE OR OUR SIDE) IF YOU CHOOSE DIRECT BANK TRANSFER OR UPI PAYMENT WHILE BOOKING INSTEAD OF RAZOR PAY.\n\n 
URL:https://bangaloreastronomyclub.com/event/shower-of-stars-lyrids-night-with-bac/
LOCATION:Chiguru Farm\, Kanakpura\, Karnataka\, Karnataka\, India
CATEGORIES:Stargazing Night
ATTACH;FMTTYPE=image/webp:https://bangaloreastronomyclub.com/wp-content/uploads/2025/11/ChatGPT-Image-Nov-12-2025-01_01_07-PM.webp
ORGANIZER;CN="Bangalore Astronomy Club":MAILTO:info@bangaloreastronomyclub.com
END:VEVENT
END:VCALENDAR